BEGIN:VCALENDAR
VERSION:2.0
CALSCALE:GREGORIAN
PRODID:adamgibbons/ics
METHOD:PUBLISH
X-WR-CALNAME:Queerowy Kalendarz
X-PUBLISHED-TTL:PT1H
BEGIN:VEVENT
UID:65b63b8e54cb33489ed21a5c772798a73877f41a@pronouns.page
SUMMARY:Miesiąc Historii LGBTQ+ (Włochy)
DTSTAMP:20260420T113930Z
DTSTART;VALUE=DATE:20260401
DTEND;VALUE=DATE:20260501
SEQUENCE:1
END:VEVENT
END:VCALENDAR
