BEGIN:VCALENDAR
VERSION:2.0
CALSCALE:GREGORIAN
PRODID:adamgibbons/ics
METHOD:PUBLISH
X-WR-CALNAME:Queerowy Kalendarz
X-PUBLISHED-TTL:PT1H
BEGIN:VEVENT
UID:909626909ad4ef15fb933ed732aedb60f5a2751e@pronouns.page
SUMMARY:Tydzień Widoczności Lesbijek
DTSTAMP:20260420T113945Z
DTSTART;VALUE=DATE:20260420
DTEND;VALUE=DATE:20260427
SEQUENCE:1
END:VEVENT
END:VCALENDAR
